BEGIN:VCALENDAR
VERSION:2.0
PRODID:-//St. Francis Xavier Catholic Church - ECPv6.15.20//NONSGML v1.0//EN
CALSCALE:GREGORIAN
METHOD:PUBLISH
X-WR-CALNAME:St. Francis Xavier Catholic Church
X-ORIGINAL-URL:https://www.sfxbirmingham.com
X-WR-CALDESC:Events for St. Francis Xavier Catholic Church
REFRESH-INTERVAL;VALUE=DURATION:PT1H
X-Robots-Tag:noindex
X-PUBLISHED-TTL:PT1H
BEGIN:VTIMEZONE
TZID:America/Chicago
BEGIN:DAYLIGHT
TZOFFSETFROM:-0600
TZOFFSETTO:-0500
TZNAME:CDT
DTSTART:20240310T080000
END:DAYLIGHT
BEGIN:STANDARD
TZOFFSETFROM:-0500
TZOFFSETTO:-0600
TZNAME:CST
DTSTART:20241103T070000
END:STANDARD
BEGIN:DAYLIGHT
TZOFFSETFROM:-0600
TZOFFSETTO:-0500
TZNAME:CDT
DTSTART:20250309T080000
END:DAYLIGHT
BEGIN:STANDARD
TZOFFSETFROM:-0500
TZOFFSETTO:-0600
TZNAME:CST
DTSTART:20251102T070000
END:STANDARD
BEGIN:DAYLIGHT
TZOFFSETFROM:-0600
TZOFFSETTO:-0500
TZNAME:CDT
DTSTART:20260308T080000
END:DAYLIGHT
BEGIN:STANDARD
TZOFFSETFROM:-0500
TZOFFSETTO:-0600
TZNAME:CST
DTSTART:20261101T070000
END:STANDARD
END:VTIMEZONE
BEGIN:VEVENT
DTSTART;TZID=America/Chicago:20250628T183000
DTEND;TZID=America/Chicago:20250628T193000
DTSTAMP:20260424T125559
CREATED:20250423T135642Z
LAST-MODIFIED:20250628T165241Z
UID:40754-1751135400-1751139000@www.sfxbirmingham.com
SUMMARY:Wedding
DESCRIPTION:CS/ND – Fr. Joe\n1-26-24-wb
URL:https://www.sfxbirmingham.com/event/wedding-14/
LOCATION:Church\, 350 5th Ave\, New York\, NY\, 10118\, United States
END:VEVENT
BEGIN:VEVENT
DTSTART;TZID=America/Chicago:20250628T173000
DTEND;TZID=America/Chicago:20250628T183000
DTSTAMP:20260424T125559
CREATED:20250423T135642Z
LAST-MODIFIED:20250628T165241Z
UID:40753-1751131800-1751135400@www.sfxbirmingham.com
SUMMARY:Wedding Party
DESCRIPTION:
URL:https://www.sfxbirmingham.com/event/wedding-party-10/
LOCATION:Bride’s Room & Joseph Room
END:VEVENT
BEGIN:VEVENT
DTSTART;TZID=America/Chicago:20250628T150000
DTEND;TZID=America/Chicago:20250628T160000
DTSTAMP:20260424T125559
CREATED:20250423T135642Z
LAST-MODIFIED:20250628T165241Z
UID:40752-1751122800-1751126400@www.sfxbirmingham.com
SUMMARY:Reconciliation
DESCRIPTION:
URL:https://www.sfxbirmingham.com/event/reconciliation-37/
LOCATION:Church\, 350 5th Ave\, New York\, NY\, 10118\, United States
END:VEVENT
BEGIN:VEVENT
DTSTART;TZID=America/Chicago:20250628T100000
DTEND;TZID=America/Chicago:20250628T120000
DTSTAMP:20260424T125559
CREATED:20250619T145729Z
LAST-MODIFIED:20250628T165241Z
UID:41594-1751104800-1751112000@www.sfxbirmingham.com
SUMMARY:Holy Family Recruitment Day Kickoff
DESCRIPTION:Daniel McCormick\n6-18-25-wb
URL:https://www.sfxbirmingham.com/event/holy-family-recruitment-day-kickoff/
LOCATION:Soccer Field
END:VEVENT
BEGIN:VEVENT
DTSTART;TZID=America/Chicago:20250628T090000
DTEND;TZID=America/Chicago:20250628T130000
DTSTAMP:20260424T125559
CREATED:20250619T145729Z
LAST-MODIFIED:20250628T165241Z
UID:41593-1751101200-1751115600@www.sfxbirmingham.com
SUMMARY:Holy Family Recruitment Day Kickoff (Weather)
DESCRIPTION:Daniel McCormick\n6-18-25-wb
URL:https://www.sfxbirmingham.com/event/holy-family-recruitment-day-kickoff-weather/
LOCATION:Gym
END:VEVENT
BEGIN:VEVENT
DTSTART;TZID=America/Chicago:20250628T083000
DTEND;TZID=America/Chicago:20250628T100000
DTSTAMP:20260424T125559
CREATED:20250423T135641Z
LAST-MODIFIED:20250627T163828Z
UID:40751-1751099400-1751104800@www.sfxbirmingham.com
SUMMARY:Sacristan Preparation
DESCRIPTION:Holly Goodbody\n9-18-23-wb
URL:https://www.sfxbirmingham.com/event/sacristan-preparation-19/
LOCATION:Sacristy / Church / Chapel
END:VEVENT
BEGIN:VEVENT
DTSTART;VALUE=DATE:20250628
DTEND;VALUE=DATE:20250630
DTSTAMP:20260424T125559
CREATED:20250424T150417Z
LAST-MODIFIED:20250629T171159Z
UID:40783-1751068800-1751241599@www.sfxbirmingham.com
SUMMARY:2nd Collection - Mission Cooperative
DESCRIPTION:
URL:https://www.sfxbirmingham.com/event/2nd-collection-mission-cooperative/
END:VEVENT
BEGIN:VEVENT
DTSTART;TZID=America/Chicago:20250627T190000
DTEND;TZID=America/Chicago:20250627T200000
DTSTAMP:20260424T125559
CREATED:20250424T150417Z
LAST-MODIFIED:20250627T163827Z
UID:40782-1751050800-1751054400@www.sfxbirmingham.com
SUMMARY:HM Solemnity Sacred Heart of Jesus Mass
DESCRIPTION:Brenda Bullock\n3-28-25-wb
URL:https://www.sfxbirmingham.com/event/hm-solemnity-sacred-heart-of-jesus/
LOCATION:Church\, 350 5th Ave\, New York\, NY\, 10118\, United States
END:VEVENT
BEGIN:VEVENT
DTSTART;TZID=America/Chicago:20250627T183000
DTEND;TZID=America/Chicago:20250627T190000
DTSTAMP:20260424T125559
CREATED:20250429T200930Z
LAST-MODIFIED:20250627T163827Z
UID:40811-1751049000-1751050800@www.sfxbirmingham.com
SUMMARY:HM Rosary
DESCRIPTION:Brenda Bullock\n4-24-25-wb
URL:https://www.sfxbirmingham.com/event/hm-rosary-5/
LOCATION:Church\, 350 5th Ave\, New York\, NY\, 10118\, United States
END:VEVENT
BEGIN:VEVENT
DTSTART;TZID=America/Chicago:20250627T180000
DTEND;TZID=America/Chicago:20250627T210000
DTSTAMP:20260424T125559
CREATED:20250529T201727Z
LAST-MODIFIED:20250627T163827Z
UID:41367-1751047200-1751058000@www.sfxbirmingham.com
SUMMARY:HM Dance
DESCRIPTION:Brenda Bullock\n5-29-25-wb
URL:https://www.sfxbirmingham.com/event/hm-dance-6/
LOCATION:Joseph Room
END:VEVENT
BEGIN:VEVENT
DTSTART;TZID=America/Chicago:20250627T170000
DTEND;TZID=America/Chicago:20250627T180000
DTSTAMP:20260424T125559
CREATED:20250423T135641Z
LAST-MODIFIED:20250627T163827Z
UID:40750-1751043600-1751047200@www.sfxbirmingham.com
SUMMARY:Wedding Rehearsal
DESCRIPTION:
URL:https://www.sfxbirmingham.com/event/wedding-rehearsal-15/
LOCATION:Church\, 350 5th Ave\, New York\, NY\, 10118\, United States
END:VEVENT
BEGIN:VEVENT
DTSTART;TZID=America/Chicago:20250627T083000
DTEND;TZID=America/Chicago:20250627T091500
DTSTAMP:20260424T125559
CREATED:20250423T135641Z
LAST-MODIFIED:20250626T163529Z
UID:40749-1751013000-1751015700@www.sfxbirmingham.com
SUMMARY:Pray the Rosary
DESCRIPTION:Immediately following 8:00am Mass in the Chapel.
URL:https://www.sfxbirmingham.com/event/pray-the-rosary-19/
LOCATION:Chapel
END:VEVENT
BEGIN:VEVENT
DTSTART;TZID=America/Chicago:20250626T190000
DTEND;TZID=America/Chicago:20250626T200000
DTSTAMP:20260424T125559
CREATED:20250423T135641Z
LAST-MODIFIED:20250626T163529Z
UID:40748-1750964400-1750968000@www.sfxbirmingham.com
SUMMARY:HM Lector Practice
DESCRIPTION:Brenda Bullock\n9-6-23-wb
URL:https://www.sfxbirmingham.com/event/hm-lector-practice-16/
LOCATION:Chapel
END:VEVENT
BEGIN:VEVENT
DTSTART;TZID=America/Chicago:20250626T183000
DTEND;TZID=America/Chicago:20250626T203000
DTSTAMP:20260424T125559
CREATED:20250423T135641Z
LAST-MODIFIED:20250626T163529Z
UID:40747-1750962600-1750969800@www.sfxbirmingham.com
SUMMARY:HM Choir Practice
DESCRIPTION:Brenda Bullock\n9-6-23-wb
URL:https://www.sfxbirmingham.com/event/hm-choir-practice-18/
LOCATION:Cry Room Church
END:VEVENT
BEGIN:VEVENT
DTSTART;TZID=America/Chicago:20250626T080000
DTEND;TZID=America/Chicago:20250626T130000
DTSTAMP:20260424T125559
CREATED:20250423T135641Z
LAST-MODIFIED:20250626T163528Z
UID:40746-1750924800-1750942800@www.sfxbirmingham.com
SUMMARY:Mary & Joseph Room Cleaning
DESCRIPTION:
URL:https://www.sfxbirmingham.com/event/mary-joseph-room-cleaning-18/
LOCATION:Mary & Joseph Rooms
END:VEVENT
BEGIN:VEVENT
DTSTART;TZID=America/Chicago:20250625T193000
DTEND;TZID=America/Chicago:20250625T210000
DTSTAMP:20260424T125559
CREATED:20250423T135641Z
LAST-MODIFIED:20250625T163619Z
UID:40745-1750879800-1750885200@www.sfxbirmingham.com
SUMMARY:HM Young Adult Choir
DESCRIPTION:Brenda Bullock\n10-16-24-wb
URL:https://www.sfxbirmingham.com/event/hm-young-adult-choir-18/
LOCATION:Youth Room
END:VEVENT
BEGIN:VEVENT
DTSTART;TZID=America/Chicago:20250625T181500
DTEND;TZID=America/Chicago:20250625T201500
DTSTAMP:20260424T125559
CREATED:20250423T135641Z
LAST-MODIFIED:20250625T163619Z
UID:40744-1750875300-1750882500@www.sfxbirmingham.com
SUMMARY:Young Adult Bible Study
DESCRIPTION:Lauren Watts
URL:https://www.sfxbirmingham.com/event/young-adult-bible-study-15/
LOCATION:YCC Room 1
END:VEVENT
BEGIN:VEVENT
DTSTART;TZID=America/Chicago:20250625T070000
DTEND;TZID=America/Chicago:20250625T080000
DTSTAMP:20260424T125559
CREATED:20250423T135641Z
LAST-MODIFIED:20250624T162146Z
UID:40743-1750834800-1750838400@www.sfxbirmingham.com
SUMMARY:Men's Fellowship
DESCRIPTION:
URL:https://www.sfxbirmingham.com/event/mens-fellowship-18/
LOCATION:Joseph Room
END:VEVENT
BEGIN:VEVENT
DTSTART;TZID=America/Chicago:20250624T190000
DTEND;TZID=America/Chicago:20250624T200000
DTSTAMP:20260424T125559
CREATED:20250429T200929Z
LAST-MODIFIED:20250624T162146Z
UID:40809-1750791600-1750795200@www.sfxbirmingham.com
SUMMARY:HM Memorial Mass
DESCRIPTION:Brenda Bullock\n4-24-25-wb
URL:https://www.sfxbirmingham.com/event/hm-memorial-mass/
LOCATION:Church\, 350 5th Ave\, New York\, NY\, 10118\, United States
END:VEVENT
BEGIN:VEVENT
DTSTART;TZID=America/Chicago:20250624T183000
DTEND;TZID=America/Chicago:20250624T190000
DTSTAMP:20260424T125559
CREATED:20250429T200929Z
LAST-MODIFIED:20250624T162146Z
UID:40810-1750789800-1750791600@www.sfxbirmingham.com
SUMMARY:HM Rosary
DESCRIPTION:Brenda Bullock\n4-24-25-wb
URL:https://www.sfxbirmingham.com/event/hm-rosary-4/
LOCATION:Church\, 350 5th Ave\, New York\, NY\, 10118\, United States
END:VEVENT
BEGIN:VEVENT
DTSTART;TZID=America/Chicago:20250624T180000
DTEND;TZID=America/Chicago:20250624T210000
DTSTAMP:20260424T125559
CREATED:20250423T135640Z
LAST-MODIFIED:20250624T162146Z
UID:40741-1750788000-1750798800@www.sfxbirmingham.com
SUMMARY:Knights of Columbus
DESCRIPTION:
URL:https://www.sfxbirmingham.com/event/knights-of-columbus-5/
LOCATION:Joseph Room
END:VEVENT
BEGIN:VEVENT
DTSTART;TZID=America/Chicago:20250624T180000
DTEND;TZID=America/Chicago:20250624T193000
DTSTAMP:20260424T125559
CREATED:20250423T135640Z
LAST-MODIFIED:20250624T162146Z
UID:40740-1750788000-1750793400@www.sfxbirmingham.com
SUMMARY:St. Vincent de Paul Meeting
DESCRIPTION:
URL:https://www.sfxbirmingham.com/event/st-vincent-de-paul-meeting-9/
LOCATION:Mary Room
END:VEVENT
BEGIN:VEVENT
DTSTART;TZID=America/Chicago:20250624T173000
DTEND;TZID=America/Chicago:20250624T183000
DTSTAMP:20260424T125559
CREATED:20250423T135640Z
LAST-MODIFIED:20250424T150416Z
UID:40742-1750786200-1750789800@www.sfxbirmingham.com
SUMMARY:Reconciliation
DESCRIPTION:
URL:https://www.sfxbirmingham.com/event/reconciliation-36/
LOCATION:Church\, 350 5th Ave\, New York\, NY\, 10118\, United States
END:VEVENT
BEGIN:VEVENT
DTSTART;TZID=America/Chicago:20250624T170000
DTEND;TZID=America/Chicago:20250624T180000
DTSTAMP:20260424T125559
CREATED:20250616T234143Z
LAST-MODIFIED:20250624T162146Z
UID:41560-1750784400-1750788000@www.sfxbirmingham.com
SUMMARY:HM Reconciliation
DESCRIPTION:
URL:https://www.sfxbirmingham.com/event/hm-reconciliation-2/
LOCATION:Church\, 350 5th Ave\, New York\, NY\, 10118\, United States
END:VEVENT
BEGIN:VEVENT
DTSTART;TZID=America/Chicago:20250624T170000
DTEND;TZID=America/Chicago:20250624T180000
DTSTAMP:20260424T125559
CREATED:20250429T200929Z
LAST-MODIFIED:20250615T221716Z
UID:40808-1750784400-1750788000@www.sfxbirmingham.com
SUMMARY:Reconciliation
DESCRIPTION:
URL:https://www.sfxbirmingham.com/event/reconciliation-41/
LOCATION:Church\, 350 5th Ave\, New York\, NY\, 10118\, United States
END:VEVENT
BEGIN:VEVENT
DTSTART;TZID=America/Chicago:20250624T133000
DTEND;TZID=America/Chicago:20250624T143000
DTSTAMP:20260424T125559
CREATED:20250521T143736Z
LAST-MODIFIED:20250624T162146Z
UID:41242-1750771800-1750775400@www.sfxbirmingham.com
SUMMARY:Staff Meeting
DESCRIPTION:5-20-25-wb
URL:https://www.sfxbirmingham.com/event/staff-meeting-5/
LOCATION:Conference Room
END:VEVENT
BEGIN:VEVENT
DTSTART;TZID=America/Chicago:20250624T083000
DTEND;TZID=America/Chicago:20250624T110000
DTSTAMP:20260424T125559
CREATED:20250423T135640Z
LAST-MODIFIED:20250623T161037Z
UID:40738-1750753800-1750762800@www.sfxbirmingham.com
SUMMARY:Women's Fellowship
DESCRIPTION:
URL:https://www.sfxbirmingham.com/event/womens-fellowship-18/
LOCATION:Joseph Room
END:VEVENT
BEGIN:VEVENT
DTSTART;TZID=America/Chicago:20250624T080000
DTEND;TZID=America/Chicago:20250624T130000
DTSTAMP:20260424T125559
CREATED:20250423T135640Z
LAST-MODIFIED:20250624T162146Z
UID:40739-1750752000-1750770000@www.sfxbirmingham.com
SUMMARY:YCC Cleaning
DESCRIPTION:
URL:https://www.sfxbirmingham.com/event/ycc-cleaning-18/
LOCATION:All CC Rooms
END:VEVENT
BEGIN:VEVENT
DTSTART;TZID=America/Chicago:20250623T190000
DTEND;TZID=America/Chicago:20250623T203000
DTSTAMP:20260424T125559
CREATED:20250423T135640Z
LAST-MODIFIED:20250623T161037Z
UID:40736-1750705200-1750710600@www.sfxbirmingham.com
SUMMARY:HM Prayer Group
DESCRIPTION:4-26-22-wb
URL:https://www.sfxbirmingham.com/event/hm-prayer-group-18/
LOCATION:Chapel
END:VEVENT
BEGIN:VEVENT
DTSTART;TZID=America/Chicago:20250623T190000
DTEND;TZID=America/Chicago:20250623T203000
DTSTAMP:20260424T125559
CREATED:20250423T135640Z
LAST-MODIFIED:20250623T161037Z
UID:40737-1750705200-1750710600@www.sfxbirmingham.com
SUMMARY:HM Young Adult Group
DESCRIPTION:Change to day made 1-4-22-wb.\nLocation change 3-19-24-wb
URL:https://www.sfxbirmingham.com/event/hm-young-adult-group-18/
LOCATION:YCC
END:VEVENT
END:VCALENDAR