BEGIN:VCALENDAR
VERSION:2.0
PRODID:-//St. Francis Xavier Catholic Church - ECPv6.15.20//NONSGML v1.0//EN
CALSCALE:GREGORIAN
METHOD:PUBLISH
X-WR-CALNAME:St. Francis Xavier Catholic Church
X-ORIGINAL-URL:https://www.sfxbirmingham.com
X-WR-CALDESC:Events for St. Francis Xavier Catholic Church
REFRESH-INTERVAL;VALUE=DURATION:PT1H
X-Robots-Tag:noindex
X-PUBLISHED-TTL:PT1H
BEGIN:VTIMEZONE
TZID:America/Chicago
BEGIN:DAYLIGHT
TZOFFSETFROM:-0600
TZOFFSETTO:-0500
TZNAME:CDT
DTSTART:20250309T080000
END:DAYLIGHT
BEGIN:STANDARD
TZOFFSETFROM:-0500
TZOFFSETTO:-0600
TZNAME:CST
DTSTART:20251102T070000
END:STANDARD
BEGIN:DAYLIGHT
TZOFFSETFROM:-0600
TZOFFSETTO:-0500
TZNAME:CDT
DTSTART:20260308T080000
END:DAYLIGHT
BEGIN:STANDARD
TZOFFSETFROM:-0500
TZOFFSETTO:-0600
TZNAME:CST
DTSTART:20261101T070000
END:STANDARD
BEGIN:DAYLIGHT
TZOFFSETFROM:-0600
TZOFFSETTO:-0500
TZNAME:CDT
DTSTART:20270314T080000
END:DAYLIGHT
BEGIN:STANDARD
TZOFFSETFROM:-0500
TZOFFSETTO:-0600
TZNAME:CST
DTSTART:20271107T070000
END:STANDARD
END:VTIMEZONE
BEGIN:VEVENT
DTSTART;TZID=America/Chicago:20260418T083000
DTEND;TZID=America/Chicago:20260418T100000
DTSTAMP:20260424T031508
CREATED:20260302T070335Z
LAST-MODIFIED:20260319T092234Z
UID:46690-1776501000-1776506400@www.sfxbirmingham.com
SUMMARY:Sacristan Preparation
DESCRIPTION:Holly Goodbody\n9-18-23-wb
URL:https://www.sfxbirmingham.com/event/sacristan-preparation-61/
LOCATION:Sacristy / Church / Chapel
END:VEVENT
BEGIN:VEVENT
DTSTART;TZID=America/Chicago:20260418T093000
DTEND;TZID=America/Chicago:20260418T110000
DTSTAMP:20260424T031508
CREATED:20260302T070335Z
LAST-MODIFIED:20260319T092234Z
UID:46689-1776504600-1776510000@www.sfxbirmingham.com
SUMMARY:HM PSR
DESCRIPTION:Brenda Bullock\n4-23-25-wb
URL:https://www.sfxbirmingham.com/event/hm-psr-131/
LOCATION:Mary & Joseph Rooms & YCC
END:VEVENT
BEGIN:VEVENT
DTSTART;TZID=America/Chicago:20260418T130000
DTEND;TZID=America/Chicago:20260418T140000
DTSTAMP:20260424T031508
CREATED:20260302T070335Z
LAST-MODIFIED:20260319T092234Z
UID:46691-1776517200-1776520800@www.sfxbirmingham.com
SUMMARY:Wedding
DESCRIPTION:DM/MG \nBrenda Bullock\n6-2-25-wb
URL:https://www.sfxbirmingham.com/event/wedding-40/
LOCATION:Church\, 350 5th Ave\, New York\, NY\, 10118\, United States
END:VEVENT
BEGIN:VEVENT
DTSTART;TZID=America/Chicago:20260418T150000
DTEND;TZID=America/Chicago:20260418T160000
DTSTAMP:20260424T031508
CREATED:20260302T070335Z
LAST-MODIFIED:20260319T092235Z
UID:46692-1776524400-1776528000@www.sfxbirmingham.com
SUMMARY:Reconciliation
DESCRIPTION:
URL:https://www.sfxbirmingham.com/event/reconciliation-93/
LOCATION:Church\, 350 5th Ave\, New York\, NY\, 10118\, United States
END:VEVENT
BEGIN:VEVENT
DTSTART;TZID=America/Chicago:20260418T150000
DTEND;TZID=America/Chicago:20260418T160000
DTSTAMP:20260424T031508
CREATED:20260313T081845Z
LAST-MODIFIED:20260319T092235Z
UID:46983-1776524400-1776528000@www.sfxbirmingham.com
SUMMARY:Convalidation
DESCRIPTION:Terry – Deacon Kay\n3-12-26-wb
URL:https://www.sfxbirmingham.com/event/convalidation-6/
LOCATION:Chapel
END:VEVENT
BEGIN:VEVENT
DTSTART;TZID=America/Chicago:20260418T180000
DTEND;TZID=America/Chicago:20260418T190000
DTSTAMP:20260424T031508
CREATED:20260302T070335Z
LAST-MODIFIED:20260319T092235Z
UID:46693-1776535200-1776538800@www.sfxbirmingham.com
SUMMARY:Wedding
DESCRIPTION:MC/GV – Fr. Joe\n10-2-25-wb
URL:https://www.sfxbirmingham.com/event/wedding-41/
LOCATION:Chapel
END:VEVENT
END:VCALENDAR