BEGIN:VCALENDAR
VERSION:2.0
PRODID:-//St. Francis Xavier Catholic Church - ECPv6.15.20//NONSGML v1.0//EN
CALSCALE:GREGORIAN
METHOD:PUBLISH
X-WR-CALNAME:St. Francis Xavier Catholic Church
X-ORIGINAL-URL:https://www.sfxbirmingham.com
X-WR-CALDESC:Events for St. Francis Xavier Catholic Church
REFRESH-INTERVAL;VALUE=DURATION:PT1H
X-Robots-Tag:noindex
X-PUBLISHED-TTL:PT1H
BEGIN:VTIMEZONE
TZID:America/Chicago
BEGIN:DAYLIGHT
TZOFFSETFROM:-0600
TZOFFSETTO:-0500
TZNAME:CDT
DTSTART:20240310T080000
END:DAYLIGHT
BEGIN:STANDARD
TZOFFSETFROM:-0500
TZOFFSETTO:-0600
TZNAME:CST
DTSTART:20241103T070000
END:STANDARD
BEGIN:DAYLIGHT
TZOFFSETFROM:-0600
TZOFFSETTO:-0500
TZNAME:CDT
DTSTART:20250309T080000
END:DAYLIGHT
BEGIN:STANDARD
TZOFFSETFROM:-0500
TZOFFSETTO:-0600
TZNAME:CST
DTSTART:20251102T070000
END:STANDARD
BEGIN:DAYLIGHT
TZOFFSETFROM:-0600
TZOFFSETTO:-0500
TZNAME:CDT
DTSTART:20260308T080000
END:DAYLIGHT
BEGIN:STANDARD
TZOFFSETFROM:-0500
TZOFFSETTO:-0600
TZNAME:CST
DTSTART:20261101T070000
END:STANDARD
END:VTIMEZONE
BEGIN:VEVENT
DTSTART;TZID=America/Chicago:20250820T070000
DTEND;TZID=America/Chicago:20250820T080000
DTSTAMP:20260424T143232
CREATED:20250606T220109Z
LAST-MODIFIED:20250820T013535Z
UID:41426-1755673200-1755676800@www.sfxbirmingham.com
SUMMARY:Men's Fellowship
DESCRIPTION:
URL:https://www.sfxbirmingham.com/event/mens-fellowship-26/
LOCATION:Joseph Room
END:VEVENT
BEGIN:VEVENT
DTSTART;TZID=America/Chicago:20250820T080000
DTEND;TZID=America/Chicago:20250820T153000
DTSTAMP:20260424T143232
CREATED:20250606T220110Z
LAST-MODIFIED:20250820T013535Z
UID:41428-1755676800-1755703800@www.sfxbirmingham.com
SUMMARY:Diocesan HM Catechetical Conference
DESCRIPTION:Sr. Emma\n2-13-25-wb
URL:https://www.sfxbirmingham.com/event/diocesan-hm-catechetical-conference/
LOCATION:Parish Hall
END:VEVENT
BEGIN:VEVENT
DTSTART;TZID=America/Chicago:20250820T083000
DTEND;TZID=America/Chicago:20250820T100000
DTSTAMP:20260424T143232
CREATED:20250606T220110Z
LAST-MODIFIED:20250820T013535Z
UID:41427-1755678600-1755684000@www.sfxbirmingham.com
SUMMARY:Diocesan HM Catechetical Mass
DESCRIPTION:Sr. Emma – Bishop Raica\n2-13-25-wb
URL:https://www.sfxbirmingham.com/event/diocesan-hm-catechetical-mass/
LOCATION:Church\, 350 5th Ave\, New York\, NY\, 10118\, United States
END:VEVENT
BEGIN:VEVENT
DTSTART;TZID=America/Chicago:20250820T140000
DTEND;TZID=America/Chicago:20250820T150000
DTSTAMP:20260424T143232
CREATED:20250813T004852Z
LAST-MODIFIED:20250820T013535Z
UID:42193-1755698400-1755702000@www.sfxbirmingham.com
SUMMARY:SFX School Band
DESCRIPTION:Margaret White\n8-12-25-wb
URL:https://www.sfxbirmingham.com/event/sfx-school-band-2/
LOCATION:Parish Hall
END:VEVENT
BEGIN:VEVENT
DTSTART;TZID=America/Chicago:20250820T181500
DTEND;TZID=America/Chicago:20250820T191500
DTSTAMP:20260424T143232
CREATED:20250606T220110Z
LAST-MODIFIED:20250714T193411Z
UID:41429-1755713700-1755717300@www.sfxbirmingham.com
SUMMARY:Young Adult Bible Study
DESCRIPTION:
URL:https://www.sfxbirmingham.com/event/young-adult-bible-study-20/
LOCATION:Chapel
END:VEVENT
BEGIN:VEVENT
DTSTART;TZID=America/Chicago:20250820T193000
DTEND;TZID=America/Chicago:20250820T210000
DTSTAMP:20260424T143232
CREATED:20250606T220110Z
LAST-MODIFIED:20250821T014850Z
UID:41430-1755718200-1755723600@www.sfxbirmingham.com
SUMMARY:HM Young Adult Choir
DESCRIPTION:Brenda Bullock\n10-16-24-wb
URL:https://www.sfxbirmingham.com/event/hm-young-adult-choir-26/
LOCATION:Youth Room
END:VEVENT
END:VCALENDAR