BEGIN:VCALENDAR
VERSION:2.0
PRODID:-//St. Francis Xavier Catholic Church - ECPv6.15.20//NONSGML v1.0//EN
CALSCALE:GREGORIAN
METHOD:PUBLISH
X-ORIGINAL-URL:https://www.sfxbirmingham.com
X-WR-CALDESC:Events for St. Francis Xavier Catholic Church
REFRESH-INTERVAL;VALUE=DURATION:PT1H
X-Robots-Tag:noindex
X-PUBLISHED-TTL:PT1H
BEGIN:VTIMEZONE
TZID:America/Chicago
BEGIN:DAYLIGHT
TZOFFSETFROM:-0600
TZOFFSETTO:-0500
TZNAME:CDT
DTSTART:20240310T080000
END:DAYLIGHT
BEGIN:STANDARD
TZOFFSETFROM:-0500
TZOFFSETTO:-0600
TZNAME:CST
DTSTART:20241103T070000
END:STANDARD
BEGIN:DAYLIGHT
TZOFFSETFROM:-0600
TZOFFSETTO:-0500
TZNAME:CDT
DTSTART:20250309T080000
END:DAYLIGHT
BEGIN:STANDARD
TZOFFSETFROM:-0500
TZOFFSETTO:-0600
TZNAME:CST
DTSTART:20251102T070000
END:STANDARD
BEGIN:DAYLIGHT
TZOFFSETFROM:-0600
TZOFFSETTO:-0500
TZNAME:CDT
DTSTART:20260308T080000
END:DAYLIGHT
BEGIN:STANDARD
TZOFFSETFROM:-0500
TZOFFSETTO:-0600
TZNAME:CST
DTSTART:20261101T070000
END:STANDARD
END:VTIMEZONE
BEGIN:VEVENT
DTSTART;TZID=America/Chicago:20250808T083000
DTEND;TZID=America/Chicago:20250808T091500
DTSTAMP:20260424T175210
CREATED:20250523T150608Z
LAST-MODIFIED:20250807T233910Z
UID:41282-1754641800-1754644500@www.sfxbirmingham.com
SUMMARY:Pray the Rosary
DESCRIPTION:Immediately following 8:00am Mass in the Chapel.
URL:https://www.sfxbirmingham.com/event/pray-the-rosary-25/
LOCATION:Chapel
END:VEVENT
BEGIN:VEVENT
DTSTART;TZID=America/Chicago:20250808T180000
DTEND;TZID=America/Chicago:20250808T210000
DTSTAMP:20260424T175210
CREATED:20250529T202029Z
LAST-MODIFIED:20250808T235223Z
UID:41373-1754676000-1754686800@www.sfxbirmingham.com
SUMMARY:HM Dance
DESCRIPTION:Brenda Bullock\n5-29-25-wb
URL:https://www.sfxbirmingham.com/event/hm-dance-12/
LOCATION:Joseph Room
END:VEVENT
BEGIN:VEVENT
DTSTART;TZID=America/Chicago:20250808T183000
DTEND;TZID=America/Chicago:20250808T193000
DTSTAMP:20260424T175210
CREATED:20250729T220326Z
LAST-MODIFIED:20250808T235223Z
UID:42046-1754677800-1754681400@www.sfxbirmingham.com
SUMMARY:HM Catequesis Training
DESCRIPTION:Brenda Bullock\n7-29-25-wb
URL:https://www.sfxbirmingham.com/event/hm-catequesis-training/
LOCATION:Chapel
END:VEVENT
END:VCALENDAR