BEGIN:VCALENDAR
VERSION:2.0
PRODID:-//St. Francis Xavier Catholic Church - ECPv6.15.20//NONSGML v1.0//EN
CALSCALE:GREGORIAN
METHOD:PUBLISH
X-ORIGINAL-URL:https://www.sfxbirmingham.com
X-WR-CALDESC:Events for St. Francis Xavier Catholic Church
REFRESH-INTERVAL;VALUE=DURATION:PT1H
X-Robots-Tag:noindex
X-PUBLISHED-TTL:PT1H
BEGIN:VTIMEZONE
TZID:America/Chicago
BEGIN:DAYLIGHT
TZOFFSETFROM:-0600
TZOFFSETTO:-0500
TZNAME:CDT
DTSTART:20240310T080000
END:DAYLIGHT
BEGIN:STANDARD
TZOFFSETFROM:-0500
TZOFFSETTO:-0600
TZNAME:CST
DTSTART:20241103T070000
END:STANDARD
BEGIN:DAYLIGHT
TZOFFSETFROM:-0600
TZOFFSETTO:-0500
TZNAME:CDT
DTSTART:20250309T080000
END:DAYLIGHT
BEGIN:STANDARD
TZOFFSETFROM:-0500
TZOFFSETTO:-0600
TZNAME:CST
DTSTART:20251102T070000
END:STANDARD
BEGIN:DAYLIGHT
TZOFFSETFROM:-0600
TZOFFSETTO:-0500
TZNAME:CDT
DTSTART:20260308T080000
END:DAYLIGHT
BEGIN:STANDARD
TZOFFSETFROM:-0500
TZOFFSETTO:-0600
TZNAME:CST
DTSTART:20261101T070000
END:STANDARD
END:VTIMEZONE
BEGIN:VEVENT
DTSTART;TZID=America/Chicago:20250806T070000
DTEND;TZID=America/Chicago:20250806T080000
DTSTAMP:20260424T160209
CREATED:20250522T145113Z
LAST-MODIFIED:20250805T232225Z
UID:41273-1754463600-1754467200@www.sfxbirmingham.com
SUMMARY:Men's Fellowship
DESCRIPTION:
URL:https://www.sfxbirmingham.com/event/mens-fellowship-24/
LOCATION:Joseph Room
END:VEVENT
BEGIN:VEVENT
DTSTART;TZID=America/Chicago:20250806T113000
DTEND;TZID=America/Chicago:20250806T143000
DTSTAMP:20260424T160209
CREATED:20250523T150607Z
LAST-MODIFIED:20250805T232225Z
UID:41276-1754479800-1754490600@www.sfxbirmingham.com
SUMMARY:Ladies of Charity
DESCRIPTION:
URL:https://www.sfxbirmingham.com/event/ladies-of-charity-6/
LOCATION:Joseph Room
END:VEVENT
BEGIN:VEVENT
DTSTART;TZID=America/Chicago:20250806T190000
DTEND;TZID=America/Chicago:20250806T200000
DTSTAMP:20260424T160209
CREATED:20250702T175322Z
LAST-MODIFIED:20250806T232409Z
UID:41729-1754506800-1754510400@www.sfxbirmingham.com
SUMMARY:HM Mass (Transfiguration)
DESCRIPTION:Brenda Bullock\n7-1-25-wb
URL:https://www.sfxbirmingham.com/event/hm-mass-transfiguration/
LOCATION:Church\, 350 5th Ave\, New York\, NY\, 10118\, United States
END:VEVENT
BEGIN:VEVENT
DTSTART;TZID=America/Chicago:20250806T193000
DTEND;TZID=America/Chicago:20250806T210000
DTSTAMP:20260424T160209
CREATED:20250523T150607Z
LAST-MODIFIED:20250806T232409Z
UID:41277-1754508600-1754514000@www.sfxbirmingham.com
SUMMARY:HM Young Adult Choir
DESCRIPTION:Brenda Bullock\n10-16-24-wb
URL:https://www.sfxbirmingham.com/event/hm-young-adult-choir-24/
LOCATION:Youth Room
END:VEVENT
END:VCALENDAR