BEGIN:VCALENDAR
VERSION:2.0
PRODID:-//St. Francis Xavier Catholic Church - ECPv6.15.20//NONSGML v1.0//EN
CALSCALE:GREGORIAN
METHOD:PUBLISH
X-ORIGINAL-URL:https://www.sfxbirmingham.com
X-WR-CALDESC:Events for St. Francis Xavier Catholic Church
REFRESH-INTERVAL;VALUE=DURATION:PT1H
X-Robots-Tag:noindex
X-PUBLISHED-TTL:PT1H
BEGIN:VTIMEZONE
TZID:America/Chicago
BEGIN:DAYLIGHT
TZOFFSETFROM:-0600
TZOFFSETTO:-0500
TZNAME:CDT
DTSTART:20240310T080000
END:DAYLIGHT
BEGIN:STANDARD
TZOFFSETFROM:-0500
TZOFFSETTO:-0600
TZNAME:CST
DTSTART:20241103T070000
END:STANDARD
BEGIN:DAYLIGHT
TZOFFSETFROM:-0600
TZOFFSETTO:-0500
TZNAME:CDT
DTSTART:20250309T080000
END:DAYLIGHT
BEGIN:STANDARD
TZOFFSETFROM:-0500
TZOFFSETTO:-0600
TZNAME:CST
DTSTART:20251102T070000
END:STANDARD
BEGIN:DAYLIGHT
TZOFFSETFROM:-0600
TZOFFSETTO:-0500
TZNAME:CDT
DTSTART:20260308T080000
END:DAYLIGHT
BEGIN:STANDARD
TZOFFSETFROM:-0500
TZOFFSETTO:-0600
TZNAME:CST
DTSTART:20261101T070000
END:STANDARD
END:VTIMEZONE
BEGIN:VEVENT
DTSTART;TZID=America/Chicago:20250804T150000
DTEND;TZID=America/Chicago:20250804T190000
DTSTAMP:20260424T174334
CREATED:20250521T143749Z
LAST-MODIFIED:20250804T230516Z
UID:41259-1754319600-1754334000@www.sfxbirmingham.com
SUMMARY:SFX Back to School Dinner
DESCRIPTION:Caroline Ching\n4-10-25-wb
URL:https://www.sfxbirmingham.com/event/sfx-back-to-school-dinner/
LOCATION:Parish Hall & Kitchen
END:VEVENT
BEGIN:VEVENT
DTSTART;TZID=America/Chicago:20250804T190000
DTEND;TZID=America/Chicago:20250804T203000
DTSTAMP:20260424T174334
CREATED:20250521T143749Z
LAST-MODIFIED:20250804T230517Z
UID:41257-1754334000-1754339400@www.sfxbirmingham.com
SUMMARY:HM Young Adult Group
DESCRIPTION:Change to day made 1-4-22-wb.\nLocation change 3-19-24-wb
URL:https://www.sfxbirmingham.com/event/hm-young-adult-group-24/
LOCATION:YCC
END:VEVENT
BEGIN:VEVENT
DTSTART;TZID=America/Chicago:20250804T190000
DTEND;TZID=America/Chicago:20250804T203000
DTSTAMP:20260424T174334
CREATED:20250521T143749Z
LAST-MODIFIED:20250804T230516Z
UID:41258-1754334000-1754339400@www.sfxbirmingham.com
SUMMARY:HM Prayer Group
DESCRIPTION:4-26-22-wb
URL:https://www.sfxbirmingham.com/event/hm-prayer-group-24/
LOCATION:Chapel
END:VEVENT
END:VCALENDAR