BEGIN:VCALENDAR
VERSION:2.0
PRODID:-//St. Francis Xavier Catholic Church - ECPv6.15.20//NONSGML v1.0//EN
CALSCALE:GREGORIAN
METHOD:PUBLISH
X-ORIGINAL-URL:https://www.sfxbirmingham.com
X-WR-CALDESC:Events for St. Francis Xavier Catholic Church
REFRESH-INTERVAL;VALUE=DURATION:PT1H
X-Robots-Tag:noindex
X-PUBLISHED-TTL:PT1H
BEGIN:VTIMEZONE
TZID:America/Chicago
BEGIN:DAYLIGHT
TZOFFSETFROM:-0600
TZOFFSETTO:-0500
TZNAME:CDT
DTSTART:20240310T080000
END:DAYLIGHT
BEGIN:STANDARD
TZOFFSETFROM:-0500
TZOFFSETTO:-0600
TZNAME:CST
DTSTART:20241103T070000
END:STANDARD
BEGIN:DAYLIGHT
TZOFFSETFROM:-0600
TZOFFSETTO:-0500
TZNAME:CDT
DTSTART:20250309T080000
END:DAYLIGHT
BEGIN:STANDARD
TZOFFSETFROM:-0500
TZOFFSETTO:-0600
TZNAME:CST
DTSTART:20251102T070000
END:STANDARD
BEGIN:DAYLIGHT
TZOFFSETFROM:-0600
TZOFFSETTO:-0500
TZNAME:CDT
DTSTART:20260308T080000
END:DAYLIGHT
BEGIN:STANDARD
TZOFFSETFROM:-0500
TZOFFSETTO:-0600
TZNAME:CST
DTSTART:20261101T070000
END:STANDARD
END:VTIMEZONE
BEGIN:VEVENT
DTSTART;VALUE=DATE:20250802
DTEND;VALUE=DATE:20250804
DTSTAMP:20260424T175112
CREATED:20250521T143748Z
LAST-MODIFIED:20250803T225445Z
UID:41249-1754092800-1754265599@www.sfxbirmingham.com
SUMMARY:Food Drive
DESCRIPTION:
URL:https://www.sfxbirmingham.com/event/food-drive-6/
END:VEVENT
BEGIN:VEVENT
DTSTART;VALUE=DATE:20250802
DTEND;VALUE=DATE:20250804
DTSTAMP:20260424T175112
CREATED:20250521T143748Z
LAST-MODIFIED:20250803T225445Z
UID:41250-1754092800-1754265599@www.sfxbirmingham.com
SUMMARY:2nd Collection - Seminarian Education Fund
DESCRIPTION:
URL:https://www.sfxbirmingham.com/event/2nd-collection-seminarian-education-fund/
END:VEVENT
BEGIN:VEVENT
DTSTART;TZID=America/Chicago:20250803T100000
DTEND;TZID=America/Chicago:20250803T103000
DTSTAMP:20260424T175112
CREATED:20250521T143749Z
LAST-MODIFIED:20250802T224936Z
UID:41255-1754215200-1754217000@www.sfxbirmingham.com
SUMMARY:Baptism
DESCRIPTION:Gray – Deacon Kay\n5-12-25-wb
URL:https://www.sfxbirmingham.com/event/baptism-22/
LOCATION:Chapel
END:VEVENT
BEGIN:VEVENT
DTSTART;TZID=America/Chicago:20250803T101500
DTEND;TZID=America/Chicago:20250803T110000
DTSTAMP:20260424T175112
CREATED:20250521T143749Z
LAST-MODIFIED:20250802T224937Z
UID:41254-1754216100-1754218800@www.sfxbirmingham.com
SUMMARY:Choir Warm Up
DESCRIPTION:5-17-22-wb
URL:https://www.sfxbirmingham.com/event/choir-warm-up-24/
LOCATION:Chapel
END:VEVENT
BEGIN:VEVENT
DTSTART;TZID=America/Chicago:20250803T140000
DTEND;TZID=America/Chicago:20250803T150000
DTSTAMP:20260424T175112
CREATED:20250521T143749Z
LAST-MODIFIED:20250802T224937Z
UID:41256-1754229600-1754233200@www.sfxbirmingham.com
SUMMARY:HM Baptism Preparation
DESCRIPTION:Brenda Bullock
URL:https://www.sfxbirmingham.com/event/hm-baptism-preparation-6/
LOCATION:Parish Hall
END:VEVENT
END:VCALENDAR