BEGIN:VCALENDAR
VERSION:2.0
PRODID:-//St. Francis Xavier Catholic Church - ECPv6.15.20//NONSGML v1.0//EN
CALSCALE:GREGORIAN
METHOD:PUBLISH
X-WR-CALNAME:St. Francis Xavier Catholic Church
X-ORIGINAL-URL:https://www.sfxbirmingham.com
X-WR-CALDESC:Events for St. Francis Xavier Catholic Church
REFRESH-INTERVAL;VALUE=DURATION:PT1H
X-Robots-Tag:noindex
X-PUBLISHED-TTL:PT1H
BEGIN:VTIMEZONE
TZID:America/Chicago
BEGIN:DAYLIGHT
TZOFFSETFROM:-0600
TZOFFSETTO:-0500
TZNAME:CDT
DTSTART:20240310T080000
END:DAYLIGHT
BEGIN:STANDARD
TZOFFSETFROM:-0500
TZOFFSETTO:-0600
TZNAME:CST
DTSTART:20241103T070000
END:STANDARD
BEGIN:DAYLIGHT
TZOFFSETFROM:-0600
TZOFFSETTO:-0500
TZNAME:CDT
DTSTART:20250309T080000
END:DAYLIGHT
BEGIN:STANDARD
TZOFFSETFROM:-0500
TZOFFSETTO:-0600
TZNAME:CST
DTSTART:20251102T070000
END:STANDARD
BEGIN:DAYLIGHT
TZOFFSETFROM:-0600
TZOFFSETTO:-0500
TZNAME:CDT
DTSTART:20260308T080000
END:DAYLIGHT
BEGIN:STANDARD
TZOFFSETFROM:-0500
TZOFFSETTO:-0600
TZNAME:CST
DTSTART:20261101T070000
END:STANDARD
END:VTIMEZONE
BEGIN:VEVENT
DTSTART;VALUE=DATE:20250802
DTEND;VALUE=DATE:20250804
DTSTAMP:20260424T143251
CREATED:20250521T143748Z
LAST-MODIFIED:20250803T225445Z
UID:41249-1754092800-1754265599@www.sfxbirmingham.com
SUMMARY:Food Drive
DESCRIPTION:
URL:https://www.sfxbirmingham.com/event/food-drive-6/
END:VEVENT
BEGIN:VEVENT
DTSTART;VALUE=DATE:20250802
DTEND;VALUE=DATE:20250804
DTSTAMP:20260424T143251
CREATED:20250521T143748Z
LAST-MODIFIED:20250803T225445Z
UID:41250-1754092800-1754265599@www.sfxbirmingham.com
SUMMARY:2nd Collection - Seminarian Education Fund
DESCRIPTION:
URL:https://www.sfxbirmingham.com/event/2nd-collection-seminarian-education-fund/
END:VEVENT
BEGIN:VEVENT
DTSTART;TZID=America/Chicago:20250802T080000
DTEND;TZID=America/Chicago:20250802T110000
DTSTAMP:20260424T143251
CREATED:20250521T143748Z
LAST-MODIFIED:20250801T225024Z
UID:41246-1754121600-1754132400@www.sfxbirmingham.com
SUMMARY:Flower Guild
DESCRIPTION:Marianne Sharbel
URL:https://www.sfxbirmingham.com/event/flower-guild-12/
LOCATION:Church\, 350 5th Ave\, New York\, NY\, 10118\, United States
END:VEVENT
BEGIN:VEVENT
DTSTART;TZID=America/Chicago:20250802T083000
DTEND;TZID=America/Chicago:20250802T100000
DTSTAMP:20260424T143251
CREATED:20250521T143748Z
LAST-MODIFIED:20250801T225024Z
UID:41247-1754123400-1754128800@www.sfxbirmingham.com
SUMMARY:Sacristan Preparation
DESCRIPTION:Holly Goodbody\n9-18-23-wb
URL:https://www.sfxbirmingham.com/event/sacristan-preparation-24/
LOCATION:Sacristy / Church / Chapel
END:VEVENT
BEGIN:VEVENT
DTSTART;TZID=America/Chicago:20250802T100000
DTEND;TZID=America/Chicago:20250802T110000
DTSTAMP:20260424T143251
CREATED:20250521T143748Z
LAST-MODIFIED:20250801T225024Z
UID:41245-1754128800-1754132400@www.sfxbirmingham.com
SUMMARY:HM Baptisms
DESCRIPTION:7-7-22-wb
URL:https://www.sfxbirmingham.com/event/hm-baptisms-6/
LOCATION:Church\, 350 5th Ave\, New York\, NY\, 10118\, United States
END:VEVENT
BEGIN:VEVENT
DTSTART;TZID=America/Chicago:20250802T110000
DTEND;TZID=America/Chicago:20250802T130000
DTSTAMP:20260424T143251
CREATED:20250521T143748Z
LAST-MODIFIED:20250801T225024Z
UID:41252-1754132400-1754139600@www.sfxbirmingham.com
SUMMARY:Ladies of Charity Sack Lunch Prep
DESCRIPTION:Marlyss Giles\n11-7-22-wb
URL:https://www.sfxbirmingham.com/event/ladies-of-charity-sack-lunch-prep-6/
LOCATION:Mary Room
END:VEVENT
BEGIN:VEVENT
DTSTART;TZID=America/Chicago:20250802T113000
DTEND;TZID=America/Chicago:20250802T123000
DTSTAMP:20260424T143251
CREATED:20250521T143748Z
LAST-MODIFIED:20250801T225024Z
UID:41248-1754134200-1754137800@www.sfxbirmingham.com
SUMMARY:Quinceañera
DESCRIPTION:Brenda Bullock\n3-3-25-wb
URL:https://www.sfxbirmingham.com/event/quinceanera-14/
LOCATION:Chapel
END:VEVENT
BEGIN:VEVENT
DTSTART;TZID=America/Chicago:20250802T123000
DTEND;TZID=America/Chicago:20250802T133000
DTSTAMP:20260424T143251
CREATED:20250521T143748Z
LAST-MODIFIED:20250604T225221Z
UID:41251-1754137800-1754141400@www.sfxbirmingham.com
SUMMARY:Quinceanera
DESCRIPTION:Brenda Bullock\n10-11-24-wb
URL:https://www.sfxbirmingham.com/event/quinceanera-15/
LOCATION:Church\, 350 5th Ave\, New York\, NY\, 10118\, United States
END:VEVENT
BEGIN:VEVENT
DTSTART;TZID=America/Chicago:20250802T150000
DTEND;TZID=America/Chicago:20250802T160000
DTSTAMP:20260424T143251
CREATED:20250521T143748Z
LAST-MODIFIED:20250801T225024Z
UID:41253-1754146800-1754150400@www.sfxbirmingham.com
SUMMARY:Reconciliation
DESCRIPTION:
URL:https://www.sfxbirmingham.com/event/reconciliation-51/
LOCATION:Church\, 350 5th Ave\, New York\, NY\, 10118\, United States
END:VEVENT
END:VCALENDAR